BEGIN:VCALENDAR
VERSION:2.0
PRODID:-//Desperta art i natura - ECPv6.15.20//NONSGML v1.0//EN
CALSCALE:GREGORIAN
METHOD:PUBLISH
X-WR-CALNAME:Desperta art i natura
X-ORIGINAL-URL:https://despertaartinatura.com
X-WR-CALDESC:Esdeveniments per Desperta art i natura
REFRESH-INTERVAL;VALUE=DURATION:PT1H
X-Robots-Tag:noindex
X-PUBLISHED-TTL:PT1H
BEGIN:VTIMEZONE
TZID:UTC
BEGIN:STANDARD
TZOFFSETFROM:+0000
TZOFFSETTO:+0000
TZNAME:UTC
DTSTART:20250101T000000
END:STANDARD
END:VTIMEZONE
BEGIN:VEVENT
DTSTART;TZID=UTC:20260210T170000
DTEND;TZID=UTC:20260519T190000
DTSTAMP:20260421T004927
CREATED:20250829T155049Z
LAST-MODIFIED:20250909T080538Z
UID:1642-1770742800-1779217200@despertaartinatura.com
SUMMARY:Viatge creatiu. Del silenci a la floració
DESCRIPTION:Un camí de connexió\, expressió i transformació personal i col·lectiva a través de l’art i la natura.\nAquest curs ofereix un viatge creatiu que comença a l’hivern\, amb el silenci i la introspecció\, i avança cap a la llum i l’esclat de la primavera. Un camí per reconnectar amb la natura i amb tu mateix/a\, mitjançant tècniques artístiques inspiradores. A través de l’expressió plàstica\, l’observació conscient i la creació col·lectiva\, explorarem com l’art pot ser una eina de benestar i desenvolupament personal. Un espai per compartir\, experimentar i gaudir\, seguint el ritme de les estacions. \nIgual que la natura té els seus cicles\, nosaltres també necessitem espais per aturar-nos\, arrelar i després florir. Aquest no és un curs qualsevol\, sinó un viatge\, una aventura creativa on la natura i l’art ens guiaran per transformar-nos\, plegades. Al llarg de 12 sessions treballarem amb l’art i la natura. Farem activitats molt senzilles: observació\, collage\, escriptura\, estampació\, observació… No cal tenir cap experiència artística. L’important no és el resultat\, sinó el procés: aturar-nos\, escoltar-nos\, reconnectar amb nosaltres i amb el grup. \n \nIgual que una llavor necessita temps\, aigua i llum per créixer\, nosaltres també necessitem espais per aturar-nos\, respirar i crear. El que busquem no és només aprendre tècniques artístiques\, sinó viure un procés personal i col·lectiu. Crear juntes\, celebrar juntse\, cuidar-nos i cuidar el vincle amb la natura. Una oportunitat única d’experimentar l’art com a eina de salut i creixement.Aquest curs vol ser això: un viatge compartit del silenci a la floració. \nA càrrec d’Irene Cervera-Buisán\, facilitadora i formadora en salut\, art i natura\, membre de Les trenades. \nDurada: 30 hores  \n12 sessions presencials de 2 hores \, complementades amb 6 hores d’activitats autodidactes (lectura\, observació i pràctica personal).  \nLloc: Olot\, seu UNED Garrotxa\, i espais naturals de la localitat \nCalendari:  dimarts de 17 a 19h. \n\nFebrer: 10\, 17.\nMarç: 3\, 10\, 17\, 24.\nAbril: 7\, 14\, 21\, 28.\nMaig: 12\, 19\n\nAportació:  55€   (UNED SÈNIORS +50) \nPlaces limitades!  Inscripció a UNED GARROTXA (tancament inscripcions 26 de de setembre)
URL:https://despertaartinatura.com/event/viatge-creatiu-del-silenci-a-la-floracio/
LOCATION:UNED GARROTXA\, Joan Pere Fontanella 3\, Olot\, 17800\, Spain
CATEGORIES:estacions,ritmenatura
END:VEVENT
BEGIN:VEVENT
DTSTART;TZID=UTC:20260523T100000
DTEND;TZID=UTC:20260523T120000
DTSTAMP:20260421T004927
CREATED:20260311T153023Z
LAST-MODIFIED:20260311T153023Z
UID:1764-1779530400-1779537600@despertaartinatura.com
SUMMARY:El bosc que imagino
DESCRIPTION:Activitat en el marc del dia europeu dels parcs! Art i natura per a tots els públics. \nDissabte 23 de maig de 10 a 12h. \nLloc: Biblioteca Anton Carrera\, Sant Julià de Vilatorta. \nLes inscripcions són sense cost\, però encara no s’han obert! Ben aviat més informació. \nOrganitza: Biblioteca Anton Carrera i Consorci de l’Espai Natural de les Guilleries Savassona.
URL:https://despertaartinatura.com/event/el-bosc-que-imagino/
LOCATION:Biblioteca Sant Julia de Vilatorta
ATTACH;FMTTYPE=image/jpeg:https://despertaartinatura.com/wp-content/uploads/2025/10/mindfulness_natura-stjoanabadesses.jpeg
END:VEVENT
BEGIN:VEVENT
DTSTART;TZID=UTC:20260621T100000
DTEND;TZID=UTC:20260621T130000
DTSTAMP:20260421T004927
CREATED:20250824T210715Z
LAST-MODIFIED:20250830T085440Z
UID:1638-1782036000-1782046800@despertaartinatura.com
SUMMARY:El ritme de la natura - Trobada d'estiu
DESCRIPTION:El ritme de la natura: un cicle de tallers per connectar amb les estacions\nEl diumenge 21 de juny finalitzem aquest  cicle de tallers per connectar-nos amb el ritme de la natura i el pas de les estacions. Una proposta que uneix reflexió personal\, pràctica d’atenció plena i moments compartits a l’aire lliure. \nCada trobada\, de tres hores de durada\, és una pausa dins del nostre dia a dia: un temps per aturar-nos\, agafar aire i escoltar allò que ens envolta. A través de petites cerimònies de cada estació i d’exercicis de mindfulness\, aprendrem a observar els canvis que es donen a la natura i\, alhora\, a reconèixer els nostres propis cicles interns. \nLa Neus Gamell Suriñach\, experta en mindfulness i atenció plena\, ens guiarà en pràctiques de cos i escàners corporals per cultivar la presència i el benestar\, mentre que la Irene Cervera-Buisán\, facilitadora i formadora en salut i natura\, facilitarà l’espai de reflexió personal per valorar el camí recorregut\, posar consciència en com ens sentim i obrir noves possibilitats sobre com volem continuar. \nCada estació ens portarà una activitat diferent\, pensada per acompanyar-nos en el moment vital i natural que vivim. Procurarem fer sempre les sessions a l’exterior\, en contacte directe amb la natura\, perquè també el vent\, la pluja o el fred formen part de l’experiència i ens ajuden a connectar amb nosaltres mateixes des d’una altra mirada. \nÉs\, en essència\, un regal de calma i de presència\, un espai compartit per nodrir-nos i deixar-nos inspirar pel cicle natural de la vida. \nTrobada d’estiu: 21 de juny de 2026 \n📍 Sant Joan de les Abadesses🗓️ 21 setembre\, 21 desembre 2025 · 22 març\, 21 juny 2026⏰ Diumenges de 10 a 13h💫 30 € per taller · 95 € el cicle complet \nPlaces limitades! Lloc de trobada: s’informarà un cop s’hagi fet la reserva. \nInscripcions: info@despertaartinatura.com \nA càrrec de Neus Gamell Suriñach i Irene Cervera-Buisán\, facilitadores de Les Trenades.
URL:https://despertaartinatura.com/event/el-ritme-de-la-natura-trobada-de-tardor-2-2-2/
LOCATION:Sant Joan de les Abadesses\, plaça de la vila\, Sant Joan de les Abadesses\, Girona\, 17860\, Spain
CATEGORIES:estacions,ritmenatura
ATTACH;FMTTYPE=image/png:https://despertaartinatura.com/wp-content/uploads/2025/08/4-e1756069579608.png
ORGANIZER;CN="Desperta art i natura":MAILTO:info@despertaartinatura.com
END:VEVENT
END:VCALENDAR