BEGIN:VCALENDAR
VERSION:2.0
PRODID:-//Desperta art i natura - ECPv6.15.20//NONSGML v1.0//EN
CALSCALE:GREGORIAN
METHOD:PUBLISH
X-ORIGINAL-URL:https://despertaartinatura.com
X-WR-CALDESC:Esdeveniments per Desperta art i natura
REFRESH-INTERVAL;VALUE=DURATION:PT1H
X-Robots-Tag:noindex
X-PUBLISHED-TTL:PT1H
BEGIN:VTIMEZONE
TZID:UTC
BEGIN:STANDARD
TZOFFSETFROM:+0000
TZOFFSETTO:+0000
TZNAME:UTC
DTSTART:20240101T000000
END:STANDARD
END:VTIMEZONE
BEGIN:VEVENT
DTSTART;TZID=UTC:20251023T170000
DTEND;TZID=UTC:20251023T190000
DTSTAMP:20260425T182755
CREATED:20251017T132135Z
LAST-MODIFIED:20251017T132135Z
UID:1712-1761238800-1761246000@despertaartinatura.com
SUMMARY:Deixar anar: escoltar al tardor al Jardí del Silenci
DESCRIPTION:Et convidem  a una trobada de calma\, connexió i reflexió al Jardí del Silenci (Gràcia\, Barcelona)\, en el marc de les activitats de Voluntariat Ambiental de la XCN. \nA través d’una breu pràctica de connexió amb la natura a través dels sentits\, ens endinsarem en el jardí per escoltar-lo\, observar-lo i sentir com  en formem part . Reflexionarem sobre el nostre vincle amb l’entorn natural i sobre com cuidar la natura és també cuidar-nos a nosaltres mateixes. \nLa tardor ens convida a aturar-nos i escoltar el que cau suaument\, a deixar anar allò que ja no cal i a trobar bellesa en la transformació. \nGuiada per Les Trenades i el projecte Desperta\, art i natura\, aquesta activtat vol ser una petita pausa enmig del ritme quotidià\, un espai per respirar\, reconnectar i inspirar-nos en la saviesa del canvi que ens regala la natura  com a font de benestar.  \n \nConeixeràs l’entitat el Jardí del Silenci\, a la que et pots sumar i participar durant tot l’any en la cura de l’espai i d’altres activitats. Un petit pulmó verd al barri de Gràcia\, amb la seva bassa\, ocells\, jardins verticals\, hort\, plantes i flors. \nDijous 23 d’octubre\, 17 h\n Jardí del Silenci\, barri de Gràcia\, Barcelona\n Activitat oberta i gratuïta: Places limitades!! Escriu a info@voluntariatambiental.cat \n\nOrganitza: Xarxa per a la Conservació de la Natura (XCN)\nAmb la col·laboració del projecte Desperta\, art i natura (animal latitude) i Les trenades
URL:https://despertaartinatura.com/event/deixar-anar-escoltar-al-tardor-al-jardi-del-silenci/
LOCATION:Jardí del Silenci\, Encarnació 62\, Barcelona\, Barcelona\, 08024
CATEGORIES:estacions,ritmenatura
ATTACH;FMTTYPE=image/jpeg:https://despertaartinatura.com/wp-content/uploads/2025/10/Activitat-23-octubre-Jardi.jpeg
END:VEVENT
END:VCALENDAR